BEGIN:VCALENDAR
VERSION:2.0
PRODID:-//hacksw/handcal//NONSGML v1.0//EN
BEGIN:VEVENT
SUMMARY:TOURNOI MINI POUSSIN.S ISLE-BOSMIE
UID:49e48830-4a9f-4cca-9e2e-da487e18e59c
DTSTART:20260613T220000Z
DTEND:20260614T220000Z
LOCATION:Localisation CENTRE SPORTIF PLEIN CIEL 87110 BOSMIE L'AIGUILLE
CATEGORIES:Sportif
STATUS:
DESCRIPTION:<p><strong><span
 style="text-decoration:underline;font-size:13px;color:#1f497d;">HORAIRES
 PESEES : </span></strong></p>
 
 <p>14h00 - 14h30 :
 masculines</p>
 
 <p>15h00 - 15h30 : feminines</p>
URL;VALUE=URI:https://judoverneuil87.sportsregions.fr/evenements/2026/06/14/tournoi-mini-poussins-isle-bosmie-2443686
END:VEVENT
END:VCALENDAR
