BEGIN:VCALENDAR
VERSION:2.0
PRODID:-//hacksw/handcal//NONSGML v1.0//EN
BEGIN:VEVENT
SUMMARY:TOURNOI MICRO POUSSIN.S ISLE-BOSMIE
UID:9d9e27b1-61db-4b2f-a373-b4bff1166062
DTSTART:20260613T220000Z
DTEND:20260614T220000Z
LOCATION:Localisation CENTRE SPORTIF PLEIN CIEL 87110 BOSMIE L'AIGUILLE
CATEGORIES:Sportif
STATUS:
DESCRIPTION:<p><strong><span
 style="text-decoration:underline;font-size:13px;color:#1f497d;">HORAIRES
 PESEES :</span></strong></p>
 
 <p>9h00 - 9h30 :
 MASCULINS</p>
 
 <p>10h00 - 10h30 : FEMININES</p>
URL;VALUE=URI:https://judoverneuil87.sportsregions.fr/evenements/2026/06/14/tournoi-micro-poussins-isle-bosmie-2443685
END:VEVENT
END:VCALENDAR
