BEGIN:VCALENDAR
VERSION:2.0
PRODID:-//hacksw/handcal//NONSGML v1.0//EN
BEGIN:VEVENT
SUMMARY:TOURNOI CADET.TE ISLE-BOSMIE
UID:68a32b09-7e4e-4cfe-b02d-9a3b6e77f0a0
DTSTART:20260613T220000Z
DTEND:20260614T220000Z
LOCATION:Localisation CENTRE SPORTIF PLEIN CIEL 87110 BOSMIE L'AIGUILLE
CATEGORIES:Sportif
STATUS:
DESCRIPTION:<p><strong><span
 style="text-decoration:underline;font-size:13px;color:#1f497d;">HORAIRE
 PESEE :</span></strong> 11h00 - 11h30</p>
URL;VALUE=URI:https://judoverneuil87.sportsregions.fr/evenements/2026/06/14/tournoi-cadette-isle-bosmie-2443687
END:VEVENT
END:VCALENDAR
