BEGIN:VCALENDAR
VERSION:2.0
PRODID:-//hacksw/handcal//NONSGML v1.0//EN
BEGIN:VEVENT
SUMMARY:TOURNOI MINIME ISLE-BOSMIE
UID:c9eb7874-484c-437d-98bf-9356b85498c2
DTSTART:20260612T220000Z
DTEND:20260613T220000Z
LOCATION:Localisation CENTRE SPORTIF PLEIN CIEL 87110 BOSMIE L'AIGUILLE
CATEGORIES:Sportif
STATUS:
DESCRIPTION:<p><strong><span
 style="text-decoration:underline;font-size:13px;color:#1f497d;">HORAIRE
 PESEE :</span></strong> 18h00 - 18h30</p>
URL;VALUE=URI:https://judoverneuil87.sportsregions.fr/evenements/2026/06/13/tournoi-minime-isle-bosmie-2443681
END:VEVENT
END:VCALENDAR
