BEGIN:VCALENDAR
VERSION:2.0
PRODID:-//hacksw/handcal//NONSGML v1.0//EN
BEGIN:VEVENT
SUMMARY:TOURNOI BENJAMIN.S ISLE-BOSMIE
UID:085bc612-864f-48c4-b262-414ef1e1e7e3
DTSTART:20260612T220000Z
DTEND:20260613T220000Z
LOCATION:Localisation CENTRE SPORTIF PLEIN CIEL 87110 BOSMIE L'AIGUILLE
CATEGORIES:Sportif
STATUS:
DESCRIPTION:<p><strong><span
 style="text-decoration:underline;font-size:13px;color:#1f497d;">HORAIRE
 DE PESEE : </span></strong>16h00 - 16h30</p>
URL;VALUE=URI:https://judoverneuil87.sportsregions.fr/evenements/2026/06/13/tournoi-benjamins-isle-bosmie-2443679
END:VEVENT
END:VCALENDAR
