BEGIN:VCALENDAR
VERSION:2.0
PRODID:-//hacksw/handcal//NONSGML v1.0//EN
BEGIN:VEVENT
SUMMARY:TOURNOI MINI POUSSIN.E RILHAC RANCON
UID:e5477ac2-7ad5-4a95-8e51-dbb10a7d87fa
DTSTART:20260530T220000Z
DTEND:20260531T220000Z
LOCATION:Localisation RUE PIERRE DE COUBERTIN 87570 RILHAC RANCON
CATEGORIES:Sportif
STATUS:
DESCRIPTION:<p><span style="color:#e74c3c;"><strong>ATTENTION
 MAUVAISE DATE DANS LE PRECEDENT MAIL </strong></span></p>
 
 <p><span
 style="color:#e74c3c;"><strong>TOURNOI DE RILHAC LE
 31/05 </strong></span></p>
 
 <p>Mini-poussines :
 09h15 <br>
 Mini-poussins : 10h30 </p>
URL;VALUE=URI:https://judoverneuil87.sportsregions.fr/evenements/2026/05/31/tournoi-mini-poussine-rilhac-rancon-2443645
END:VEVENT
END:VCALENDAR
