BEGIN:VCALENDAR
VERSION:2.0
PRODID:-//hacksw/handcal//NONSGML v1.0//EN
BEGIN:VEVENT
SUMMARY:TOURNOI BENJAMIN.E RILHAC RANCON
UID:d0335fb4-f733-4edf-90de-bc78a25302fb
DTSTART:20260529T220000Z
DTEND:20260530T220000Z
LOCATION:Localisation RUE PIERRE DE COUBERTIN 87570 RILHAC RANCON
CATEGORIES:Sportif
STATUS:
DESCRIPTION:<p><strong><span
 style="text-decoration:underline;font-size:13px;color:#1f497d;">HORAIRES
 : </span></strong></p>
 
 <p>Feminines : 13h45</p>
 
 <p>Masculins :
 15h45</p>
URL;VALUE=URI:https://judoverneuil87.sportsregions.fr/evenements/2026/05/30/tournoi-benjamine-rilhac-rancon-2443641
END:VEVENT
END:VCALENDAR
