BEGIN:VCALENDAR
VERSION:2.0
PRODID:-//hacksw/handcal//NONSGML v1.0//EN
BEGIN:VEVENT
SUMMARY:PASSAGE DE GRADE KATA / SHIAI / TECHNIQUE
UID:8fee41bd-a182-4cda-be90-1b2e817188fd
DTSTART:20260529T220000Z
DTEND:20260530T220000Z
LOCATION:Localisation   
CATEGORIES:Sportif
STATUS:
DESCRIPTION:<p><strong>Kata UV1</strong></p>
 
 <p>8H30 a 9H00 :
 Verifications administratives pour les candidat(e)s aux 2eme, 3eme et
 4eme dan </p>
 
 <p>9h00 a 9H30 : Verifications administratives pour
 les candidat(e)s au 1er dan</p>
 
 <p><strong>UV
 2</strong></p>
 
 <p>8H30 a 9H00 : Verifications administratives pour
 les candidat(e)s aux 2eme, 3eme et 4eme dan </p>
 
 <p>9h00 a 9H30 :
 Verifications administratives pour les candidat(e)s au 1er
 dan</p>
 
 <p><strong>UV3 SHIAI</strong></p>
 
 <p>13H30 a 14H00 :
 <strong>Accueil de l'ensemble des candidates
 feminines</strong></p>
 
 <p>=> CM nees en 2011 et 2010 candidates pour
 le 1er dan</p>
 
 <p>=> CM nees de 2009 a 1986, candidates pour le 1er
 dan.</p>
 
 <p>=> CM et CN nees en 1985 et avant candidates pour les
 1er, 2eme et 3eme dan.</p>
 
 <p>13H30 a 14H00 : <strong>Accueil des
 candidats masculins nes en 1985 et plus ages</strong> candidats pour
 les 1er, 2eme et 3eme dan. </p>
 
 <p>14h30 a 15H00 : <strong>Accueil
 des candidats masculins pour les 2eme et 3eme
 dan</strong>. </p>
 
 <p>15H30 a 16H00 : <strong>Accueil des candidats
 masculins pour acces au 1er dan</strong> :</p>
 
 <p>=> CM nes en 2011
 et 2010 candidats pour le 1er dan.</p>
 
 <p>=> CM nes de 2009 a 1986
 candidats pour le 1er dan.</p>
URL;VALUE=URI:https://judoverneuil87.sportsregions.fr/evenements/2026/05/30/passage-de-grade-kata-shiai-technique-2443665
END:VEVENT
END:VCALENDAR
