BEGIN:VCALENDAR
VERSION:2.0
PRODID:-//hacksw/handcal//NONSGML v1.0//EN
BEGIN:VEVENT
SUMMARY:TOURNOI  POUSSIN.E SAINT YRIEIX LA PERCHE
UID:c55c46a6-ceef-443a-ab00-3b43b1e694ed
DTSTART:20260515T220000Z
DTEND:20260516T220000Z
LOCATION:Localisation VILLA SPORT COMPLEXE SPORT 87500 SAINT YRIEIX LA PERCHE
CATEGORIES:Sportif
STATUS:
DESCRIPTION:<p><span style="text-decoration:underline;">POUSSINS
 :</span></p>
 
 <p>Pesee Filles : 11h00 a 11h30</p>
 
 <p>Pesee Garcons :
 11h30 a 12h00</p>
URL;VALUE=URI:https://judoverneuil87.sportsregions.fr/evenements/2026/05/16/tournoi-poussine-saint-yrieix-la-perche-2443637
END:VEVENT
END:VCALENDAR
