BEGIN:VCALENDAR
VERSION:2.0
PRODID:-//hacksw/handcal//NONSGML v1.0//EN
BEGIN:VEVENT
SUMMARY:TOURNOI MINI POUSSIN.E SAINT YRIEIX LA PERCHE
UID:f44cd359-e993-4754-94ce-eab840962d2b
DTSTART:20260515T220000Z
DTEND:20260516T220000Z
LOCATION:Localisation VILLA SPORT COMPLEXE SPORT 87500 SAINT YRIEIX LA PERCHE
CATEGORIES:Sportif
STATUS:
DESCRIPTION:<p><span style="text-decoration:underline;">MINI-POUSSINS
 :</span></p>
 
 <p>-Pesee Filles : 14h30 a 14h50<br />
 -Pesee Garcons :
 15h20 a 15h50</p>
URL;VALUE=URI:https://judoverneuil87.sportsregions.fr/evenements/2026/05/16/tournoi-mini-poussine-saint-yrieix-la-perche-2443636
END:VEVENT
END:VCALENDAR
