BEGIN:VCALENDAR
VERSION:2.0
PRODID:-//hacksw/handcal//NONSGML v1.0//EN
BEGIN:VEVENT
SUMMARY:TOURNOI  BENJAMIN.E SAINT YRIEIX LA PERCHE
UID:4835ceaa-9aae-48c7-94cd-130bf9a3651e
DTSTART:20260515T220000Z
DTEND:20260516T220000Z
LOCATION:Localisation VILLA SPORT COMPLEXE SPORT 87500 SAINT YRIEIX LA PERCHE
CATEGORIES:Sportif
STATUS:
DESCRIPTION:<p><span style="text-decoration:underline;">BENJAMINS
 :</span></p>
 
 <p>Pesee Filles : 16h30 a 17h00<br />
 Pesee Garcons :
 17h20 a 17h40</p>
URL;VALUE=URI:https://judoverneuil87.sportsregions.fr/evenements/2026/05/16/tournoi-benjamine-saint-yrieix-la-perche-2443638
END:VEVENT
END:VCALENDAR
