BEGIN:VCALENDAR
VERSION:2.0
PRODID:-//hacksw/handcal//NONSGML v1.0//EN
BEGIN:VEVENT
SUMMARY:UV4 1ER ET 2EME DAN  SAINT JUNIEN
UID:2e2b0d77-f467-4cc5-8b27-e5d8471c2928
DTSTART:20260507T220000Z
DTEND:20260508T220000Z
LOCATION:Localisation palais des sports 87200 saint junien
CATEGORIES:Sportif
STATUS:
DESCRIPTION:<div
 style="font-style:inherit;font-family:inherit;"><span
 style="font-family:Arial;font-size:16px;color:#000000;">Nous
 ouvrons <span>5 UV4 CS et 5 UV4 arbitrage pour la 44eme edition de
 la Coupe du Printemps de Saint Junien le 1er mai
 2026.</span></span></div>
 
 <p
 style="font-style:inherit;font-family:inherit;"> </p>
 
 <p
 style="font-style:inherit;font-family:inherit;"><span
 style="font-family:Arial;"><strong><span
 style="font-size:16px;color:#ff0000;"><span
 style="text-decoration:underline;">CONVOCATION
 :</span> 9H00</span></strong></span></p>
 
 <div
 style="font-style:inherit;font-family:inherit;"> </div>
 
 <div
 style="font-style:inherit;font-family:inherit;"><span
 style="font-family:Arial;"><strong><span
 style="text-decoration:underline;font-size:16px;color:#ff0000;">Important
 :</span></strong></span></div>
 
 <div
 style="font-style:inherit;font-family:inherit;"><span
 style="font-family:Arial;"><strong><span
 style="font-size:16px;color:#ff0000;">La participation a cette phase
 pratique est <span style="text-decoration:underline;">sur la
 matinee</span>.</span></strong></span></div>
 
 <div
 style="font-style:inherit;font-family:inherit;"><span
 style="font-family:Arial;"><strong><span
 style="font-size:16px;color:#ff0000;">Les candidats au 1er dan
 doivent realiser un UV4 CS (stage ou pratique) et les candidats au 2e
 dan un UV4 arbitrage (stage ou pratique) pour valider
 l'UV4.</span></strong></span></div>
URL;VALUE=URI:https://judoverneuil87.sportsregions.fr/evenements/2026/05/08/uv4-1er-et-2eme-dan-saint-junien-2443626
END:VEVENT
END:VCALENDAR
