BEGIN:VCALENDAR
VERSION:2.0
PRODID:-//hacksw/handcal//NONSGML v1.0//EN
BEGIN:VEVENT
SUMMARY:TOURNOI POUSSIN.E SAINT JUNIEN
UID:c7b10595-221e-494c-9171-24cf5ea5f424
DTSTART:20260507T220000Z
DTEND:20260508T220000Z
LOCATION:Localisation palais des sports 87200 saint junien
CATEGORIES:Sportif
STATUS:
DESCRIPTION:<p>PESEE POUSSIN(E)S DE 9H00 A 9H30</p>
URL;VALUE=URI:https://judoverneuil87.sportsregions.fr/evenements/2026/05/08/tournoi-poussine-saint-junien-2443615
END:VEVENT
END:VCALENDAR
