BEGIN:VCALENDAR
VERSION:2.0
PRODID:-//hacksw/handcal//NONSGML v1.0//EN
BEGIN:VEVENT
SUMMARY:TOURNOI MINI POUSSIN.E SAINT JUNIEN
UID:1d5d4dc8-300f-406d-bba3-13dbe8fa1535
DTSTART:20260507T220000Z
DTEND:20260508T220000Z
LOCATION:Localisation palais des sports 87200 saint junien
CATEGORIES:Sportif
STATUS:
DESCRIPTION:<p>PESEE MINI POUSSIN(E)S DE 13H30 A 14H00</p>
URL;VALUE=URI:https://judoverneuil87.sportsregions.fr/evenements/2026/05/08/tournoi-mini-poussine-saint-junien-2443619
END:VEVENT
END:VCALENDAR
