BEGIN:VCALENDAR
VERSION:2.0
PRODID:-//hacksw/handcal//NONSGML v1.0//EN
BEGIN:VEVENT
SUMMARY:TOURNOI MICRO POUSSIN.E SAINT JUNIEN
UID:bb01c9bf-bf4f-4b9b-84bd-005dd1ea106c
DTSTART:20260507T220000Z
DTEND:20260508T220000Z
LOCATION:Localisation palais des sports 87200 saint junien
CATEGORIES:Sportif
STATUS:
DESCRIPTION:<p>PESEE MICRO POUSSIN(E)S DE 15H30 A 16H00</p>
URL;VALUE=URI:https://judoverneuil87.sportsregions.fr/evenements/2026/05/08/tournoi-micro-poussine-saint-junien-2443622
END:VEVENT
END:VCALENDAR
