BEGIN:VCALENDAR
VERSION:2.0
PRODID:-//hacksw/handcal//NONSGML v1.0//EN
BEGIN:VEVENT
SUMMARY:TOURNOI DES MOUSSES - RAZES
UID:68c97f17-4294-42e7-ae40-fb3e3fb62abb
DTSTART:20260320T230000Z
DTEND:20260321T230000Z
LOCATION:Localisation salle polyvalente  razes
CATEGORIES:Sportif
STATUS:
DESCRIPTION:<p><strong>Tournoi des mousses -
 Razes</strong></p>
 
 <p><strong>Horaires de pesee
 :</strong></p>
 
 <ul>
 	<li><strong>poussins :
 9h30</strong></li>
 	<li><strong>poussines :
 10h</strong></li>
 	<li><strong>mini-poussin-es :
 16h</strong></li>
 </ul>
URL;VALUE=URI:https://judoverneuil87.sportsregions.fr/evenements/2026/03/21/tournoi-des-mousses-razes-2430558
END:VEVENT
END:VCALENDAR
